BEGIN:VCALENDAR
VERSION:2.0
PRODID:-//Kollumerzwaag - de digitale dorpskrant - ECPv6.15.20//NONSGML v1.0//EN
CALSCALE:GREGORIAN
METHOD:PUBLISH
X-WR-CALNAME:Kollumerzwaag - de digitale dorpskrant
X-ORIGINAL-URL:https://www.kollumerzwaag.nl/web
X-WR-CALDESC:Evenementen voor Kollumerzwaag - de digitale dorpskrant
REFRESH-INTERVAL;VALUE=DURATION:PT1H
X-Robots-Tag:noindex
X-PUBLISHED-TTL:PT1H
BEGIN:VTIMEZONE
TZID:Europe/Amsterdam
BEGIN:DAYLIGHT
TZOFFSETFROM:+0100
TZOFFSETTO:+0200
TZNAME:CEST
DTSTART:20250330T010000
END:DAYLIGHT
BEGIN:STANDARD
TZOFFSETFROM:+0200
TZOFFSETTO:+0100
TZNAME:CET
DTSTART:20251026T010000
END:STANDARD
BEGIN:DAYLIGHT
TZOFFSETFROM:+0100
TZOFFSETTO:+0200
TZNAME:CEST
DTSTART:20260329T010000
END:DAYLIGHT
BEGIN:STANDARD
TZOFFSETFROM:+0200
TZOFFSETTO:+0100
TZNAME:CET
DTSTART:20261025T010000
END:STANDARD
BEGIN:DAYLIGHT
TZOFFSETFROM:+0100
TZOFFSETTO:+0200
TZNAME:CEST
DTSTART:20270328T010000
END:DAYLIGHT
BEGIN:STANDARD
TZOFFSETFROM:+0200
TZOFFSETTO:+0100
TZNAME:CET
DTSTART:20271031T010000
END:STANDARD
END:VTIMEZONE
BEGIN:VEVENT
DTSTART;TZID=Europe/Amsterdam:20260518T180000
DTEND;TZID=Europe/Amsterdam:20260518T190000
DTSTAMP:20260421T031606
CREATED:20260419T102041Z
LAST-MODIFIED:20260419T102120Z
UID:12880-1779127200-1779130800@www.kollumerzwaag.nl
SUMMARY:Avond4daagse 18-19-20-21 mei
DESCRIPTION:  \n  \n  \n  \n  \n  \n  \n  \n  \nOp maandg 18 mei start de kaartverkoop van de avondvierdaagse om 18.00 vanuit de trije doarpen .
URL:https://www.kollumerzwaag.nl/web/evenement/avond4daagse-18-19-20-21-mei/
LOCATION:De Trije Doarpen\, Kollumerzwaag
CATEGORIES:Avondvierdaagse Kollumerzwaag en Veenklooster
END:VEVENT
END:VCALENDAR